BEGIN:VCALENDAR
PRODID:-//hacksw/handcal//NONSGML v1.0//EN
VERSION:2.0
METHOD:PUBLISH
BEGIN:VEVENT
DTSTART:20211112T174500Z
DTEND:20211112T190000Z
LOCATION:Liberty Hall Banquet and Conference Center 
UID:2186120211112T174500ZEder Law Hot Topics
DTSTAMP:20260420T081232Z
DESCRIPTION:
SUMMARY:Eder Law Hot Topics - Fox Valley Estate Planning Council 
PRIORITY:3
BEGIN:VALARM
TRIGGER:PT18H
ACTION:DISPLAY
DESCRIPTION:Reminder
END:VALARM
END:VEVENT
END:VCALENDAR