BEGIN:VCALENDAR
PRODID:-//hacksw/handcal//NONSGML v1.0//EN
VERSION:2.0
METHOD:PUBLISH
BEGIN:VEVENT
DTSTART:20230907T213000Z
DTEND:20230907T230000Z
LOCATION:North Shore Golf Club
UID:2470820230907T213000ZAnnual Social
DTSTAMP:20260420T081737Z
DESCRIPTION:\nAppetizers and two drinks will be provided for all members\n
SUMMARY:Annual Social - Fox Valley Estate Planning Council 
PRIORITY:3
BEGIN:VALARM
TRIGGER:PT18H
ACTION:DISPLAY
DESCRIPTION:Reminder
END:VALARM
END:VEVENT
END:VCALENDAR