BEGIN:VCALENDAR
PRODID:-//hacksw/handcal//NONSGML v1.0//EN
VERSION:2.0
METHOD:PUBLISH
BEGIN:VEVENT
DTSTART:20250109T180000Z
DTEND:20250109T190000Z
LOCATION:Bridgewood Resort and Conference Center - Neenah
UID:2675120250109T180000ZHow Not to Ruin Your Kids with Money  - (NOTE CHANGE OF LOCATION)
DTSTAMP:20260420T080459Z
DESCRIPTION:\nThe lunch menu is a Turkey Wrap. If you need the alternative Dinner Salad or have anyother restrictions, please indicate below when you RSVP below.\n
SUMMARY:How Not to Ruin Your Kids with Money  - (NOTE CHANGE OF LOCATION) - Fox Valley Estate Planning Council 
PRIORITY:3
BEGIN:VALARM
TRIGGER:PT18H
ACTION:DISPLAY
DESCRIPTION:Reminder
END:VALARM
END:VEVENT
END:VCALENDAR